BEGIN:VCALENDAR
VERSION:2.0
PRODID:-//Witas Oy - ECPv6.15.20//NONSGML v1.0//EN
CALSCALE:GREGORIAN
METHOD:PUBLISH
X-ORIGINAL-URL:https://witas.fi
X-WR-CALDESC:Tapahtumat Witas Oy
REFRESH-INTERVAL;VALUE=DURATION:PT1H
X-Robots-Tag:noindex
X-PUBLISHED-TTL:PT1H
BEGIN:VTIMEZONE
TZID:Europe/Helsinki
BEGIN:DAYLIGHT
TZOFFSETFROM:+0200
TZOFFSETTO:+0300
TZNAME:EEST
DTSTART:20230326T010000
END:DAYLIGHT
BEGIN:STANDARD
TZOFFSETFROM:+0300
TZOFFSETTO:+0200
TZNAME:EET
DTSTART:20231029T010000
END:STANDARD
BEGIN:DAYLIGHT
TZOFFSETFROM:+0200
TZOFFSETTO:+0300
TZNAME:EEST
DTSTART:20240331T010000
END:DAYLIGHT
BEGIN:STANDARD
TZOFFSETFROM:+0300
TZOFFSETTO:+0200
TZNAME:EET
DTSTART:20241027T010000
END:STANDARD
BEGIN:DAYLIGHT
TZOFFSETFROM:+0200
TZOFFSETTO:+0300
TZNAME:EEST
DTSTART:20250330T010000
END:DAYLIGHT
BEGIN:STANDARD
TZOFFSETFROM:+0300
TZOFFSETTO:+0200
TZNAME:EET
DTSTART:20251026T010000
END:STANDARD
END:VTIMEZONE
BEGIN:VEVENT
DTSTART;TZID=Europe/Helsinki:20240618T110000
DTEND;TZID=Europe/Helsinki:20240618T160000
DTSTAMP:20260419T153244
CREATED:20240617T124915Z
LAST-MODIFIED:20240617T125233Z
UID:15254-1718708400-1718726400@witas.fi
SUMMARY:Työpaja musiikin tekemiseen Digikeskuksessa\, osa 1
DESCRIPTION:  \nTyöpaja musiikin tekemiseen ti 18.6.2024 ja 25.6.2024 klo 11-16 Viitasaaren Digikeskuksella (Keskitie 4). Tervetuloa mukaan! \n  \nLisätiedot:\nMirva Jäntti\, 040 707 9618\, mirva.jantti@witas.fi\nDigikeskus\, Keskitie 4\, Viitasaari \nTapahtuman järjestää Ketterien kokeilujen elinvoimahautomo\, jonka toteuttajana toimii Kehittämisyhtiö Witas Oy ja kumppaneina Viitasaaren kaupunki\, POKE ja Keski-Suomen hyvinvointialue. Rahoittajana toimii Keski-Suomen ELY-keskus maaseuturahastosta.
URL:https://witas.fi/kalenteri/tyopaja-musiikin-tekemiseen-digikeskuksessa-18062024
LOCATION:Digikeskus\, Keskitie 4\, Viitasaari\, 44500\, Suomi
CATEGORIES:2024,Viitasaari,Witas Oy
END:VEVENT
END:VCALENDAR