BEGIN:VCALENDAR
VERSION:2.0
PRODID:-//Witas Oy - ECPv6.15.20//NONSGML v1.0//EN
CALSCALE:GREGORIAN
METHOD:PUBLISH
X-ORIGINAL-URL:https://witas.fi
X-WR-CALDESC:Tapahtumat Witas Oy
REFRESH-INTERVAL;VALUE=DURATION:PT1H
X-Robots-Tag:noindex
X-PUBLISHED-TTL:PT1H
BEGIN:VTIMEZONE
TZID:Europe/Helsinki
BEGIN:DAYLIGHT
TZOFFSETFROM:+0200
TZOFFSETTO:+0300
TZNAME:EEST
DTSTART:20230326T010000
END:DAYLIGHT
BEGIN:STANDARD
TZOFFSETFROM:+0300
TZOFFSETTO:+0200
TZNAME:EET
DTSTART:20231029T010000
END:STANDARD
BEGIN:DAYLIGHT
TZOFFSETFROM:+0200
TZOFFSETTO:+0300
TZNAME:EEST
DTSTART:20240331T010000
END:DAYLIGHT
BEGIN:STANDARD
TZOFFSETFROM:+0300
TZOFFSETTO:+0200
TZNAME:EET
DTSTART:20241027T010000
END:STANDARD
BEGIN:DAYLIGHT
TZOFFSETFROM:+0200
TZOFFSETTO:+0300
TZNAME:EEST
DTSTART:20250330T010000
END:DAYLIGHT
BEGIN:STANDARD
TZOFFSETFROM:+0300
TZOFFSETTO:+0200
TZNAME:EET
DTSTART:20251026T010000
END:STANDARD
END:VTIMEZONE
BEGIN:VEVENT
DTSTART;TZID=Europe/Helsinki:20240610T140000
DTEND;TZID=Europe/Helsinki:20240610T160000
DTSTAMP:20260419T234935
CREATED:20240521T104326Z
LAST-MODIFIED:20240521T104427Z
UID:14922-1718028000-1718035200@witas.fi
SUMMARY:Ammattilaisia Sydänsuomeen Työnantajafoorumi Digikeskuksessa
DESCRIPTION:Tervetuloa Ammattilaisia Sydänsuomeen työnantajafoorumille maanantaina 10.6.2024 klo 14–16\, paikkana toimii Digikeskus (Keskitie 4). Työnantajafoorumi on työnantajia palveleva tukiverkosto rekrytoinnin kehittämiseksi. Edistämme yhdessä alueellista rekrytointia työntekijöiden veto- ja pitovoiman lisäämiseksi. Mukaan tulevilla työnantajilla ei tarvitse olla juuri tällä hetkellä tarvetta uudelle työntekijälle\, kiinnostus oman rekrytointiprosessin kehittämisestä riittää. \nTämän kertaisessa tapaamisessa käymme läpi rekrytointiprosessia kokonaisuudessaan. Foorumi alkaa kahveilla ja lyhyellä alustuksella aiheesta\, jonka jälkeen siirrymme työpajaan ja täydennämme runkoa omien käytännön kokemuksien ja ajatusten pohjalta. Tarjolla on siis keskustelua aiheen ympärillä muiden alueen työnantajien kanssa. Pääsemme myös tutustumaan Digikeskuksen mahdollisuuksiin työnantajabrändin ja rekrytointiviestinnän näkökulmasta. Halukkaiden on mahdollista testata lyhyesti esimerkiksi podcastin tekoa\, vaikka omaa yritystä esitellen. \nTule keskustelemaan kanssamme rekrytoinnista ja ilmoittaudu mukaan: https://forms.office.com/e/2yUGBt5dL7. Jätäthän ilmoittautumisen ma 3.6. klo 16 mennessä\, jotta osaamme keittää oikean määrän kahvia. Tilaisuuteen voi osallistua Sydänsuomessa-alueen julkiset ja yksityiset työnantajat. \nTapahtuman järjestää Ammattilaisia Sydänsuomeen -hanke\, joka on Euroopan unionin osarahoittama maaseuturahastosta Keski-Suomen ELY-keskuksen kautta.
URL:https://witas.fi/kalenteri/ammattilaisia-sydansuomeen-tyonantajafoorumi-digikeskuksessa-10062024
LOCATION:Digikeskus\, Keskitie 4\, Viitasaari\, 44500\, Suomi
CATEGORIES:2024,Sydänsuomessa,Witas Oy
END:VEVENT
END:VCALENDAR