BEGIN:VCALENDAR
VERSION:2.0
PRODID:-//Witas Oy - ECPv6.15.20//NONSGML v1.0//EN
CALSCALE:GREGORIAN
METHOD:PUBLISH
X-WR-CALNAME:Witas Oy
X-ORIGINAL-URL:https://witas.fi
X-WR-CALDESC:Tapahtumat Witas Oy
REFRESH-INTERVAL;VALUE=DURATION:PT1H
X-Robots-Tag:noindex
X-PUBLISHED-TTL:PT1H
BEGIN:VTIMEZONE
TZID:Europe/Helsinki
BEGIN:DAYLIGHT
TZOFFSETFROM:+0200
TZOFFSETTO:+0300
TZNAME:EEST
DTSTART:20230326T010000
END:DAYLIGHT
BEGIN:STANDARD
TZOFFSETFROM:+0300
TZOFFSETTO:+0200
TZNAME:EET
DTSTART:20231029T010000
END:STANDARD
BEGIN:DAYLIGHT
TZOFFSETFROM:+0200
TZOFFSETTO:+0300
TZNAME:EEST
DTSTART:20240331T010000
END:DAYLIGHT
BEGIN:STANDARD
TZOFFSETFROM:+0300
TZOFFSETTO:+0200
TZNAME:EET
DTSTART:20241027T010000
END:STANDARD
BEGIN:DAYLIGHT
TZOFFSETFROM:+0200
TZOFFSETTO:+0300
TZNAME:EEST
DTSTART:20250330T010000
END:DAYLIGHT
BEGIN:STANDARD
TZOFFSETFROM:+0300
TZOFFSETTO:+0200
TZNAME:EET
DTSTART:20251026T010000
END:STANDARD
END:VTIMEZONE
BEGIN:VEVENT
DTSTART;TZID=Europe/Helsinki:20240311T160000
DTEND;TZID=Europe/Helsinki:20240311T190000
DTSTAMP:20260423T165207
CREATED:20240308T095630Z
LAST-MODIFIED:20240411T093923Z
UID:14092-1710172800-1710183600@witas.fi
SUMMARY:Tee ja tienaa -tapahtuma nuorille
DESCRIPTION:Tee ja tienaa -tapahtuma ma 11.3.2024 klo 16–19 Digikeskuksessa (Keskitie 4). \nTapahtumassa suunnitellaan jokaiselle sopiva tapa tienata. \nTapahtuma on suunnattu 13–29-vuotiaille nuorille ja se on kaikille avoin ja maksuton. \nTapahtuman järjestää Digikeskus (Ketterien kokeilujen elinvoimahautomo) sekä Viitasaaren 4H. \n  \n \n  \nKetterien kokeilujen elinvoimahautomon rahoittajana toimii Keski-Suomen ELY-keskus Euroopan unionin maaseuturahastosta.
URL:https://witas.fi/kalenteri/tee-ja-tienaa-tapahtuma-nuorille-11032024
LOCATION:Digikeskus\, Keskitie 4\, Viitasaari\, 44500\, Suomi
CATEGORIES:2024,Viitasaari,Witas Oy
END:VEVENT
END:VCALENDAR