BEGIN:VCALENDAR
VERSION:2.0
PRODID:-//Witas Oy - ECPv6.15.20//NONSGML v1.0//EN
CALSCALE:GREGORIAN
METHOD:PUBLISH
X-WR-CALNAME:Witas Oy
X-ORIGINAL-URL:https://witas.fi
X-WR-CALDESC:Tapahtumat Witas Oy
REFRESH-INTERVAL;VALUE=DURATION:PT1H
X-Robots-Tag:noindex
X-PUBLISHED-TTL:PT1H
BEGIN:VTIMEZONE
TZID:Europe/Helsinki
BEGIN:DAYLIGHT
TZOFFSETFROM:+0200
TZOFFSETTO:+0300
TZNAME:EEST
DTSTART:20220327T010000
END:DAYLIGHT
BEGIN:STANDARD
TZOFFSETFROM:+0300
TZOFFSETTO:+0200
TZNAME:EET
DTSTART:20221030T010000
END:STANDARD
BEGIN:DAYLIGHT
TZOFFSETFROM:+0200
TZOFFSETTO:+0300
TZNAME:EEST
DTSTART:20230326T010000
END:DAYLIGHT
BEGIN:STANDARD
TZOFFSETFROM:+0300
TZOFFSETTO:+0200
TZNAME:EET
DTSTART:20231029T010000
END:STANDARD
BEGIN:DAYLIGHT
TZOFFSETFROM:+0200
TZOFFSETTO:+0300
TZNAME:EEST
DTSTART:20240331T010000
END:DAYLIGHT
BEGIN:STANDARD
TZOFFSETFROM:+0300
TZOFFSETTO:+0200
TZNAME:EET
DTSTART:20241027T010000
END:STANDARD
END:VTIMEZONE
BEGIN:VEVENT
DTSTART;TZID=Europe/Helsinki:20231123T170000
DTEND;TZID=Europe/Helsinki:20231123T173000
DTSTAMP:20260423T233906
CREATED:20231121T111205Z
LAST-MODIFIED:20240411T084709Z
UID:11751-1700758800-1700760600@witas.fi
SUMMARY:Sydänsuomen luontomatkailun kasvuohjelman Viitasaaren aloitustilaisuus
DESCRIPTION:Tervetuloa Sydänsuomen luontomatkailun kasvuohjelman Viitasaaren aloitustilaisuuteen torstaina 23.11.2023 klo 17–17.30 Lennättimeen. Tule mukaan kuulemaan Sydänsuomessa-alueen luontomatkailun pitkän tähtäimen kasvuohjelman laatimisesta ja tulevista kehittämistoimenpiteistä. \nIlmoittaudu tilaisuuteen: https://response.questback.com/sekeskehittmisyhtikarstulanseu/kkau5ppvaf \nLuontomatkailun kasvuohjelmaa toteutetaan yhteistyönä Sydänsuomessa. Hallinnoijana toimii Kehittämisyhtiö Karstulanseutu Oy ja yhteistyössä ovat mukana Kinnulan\, Karstulan\, Pihtiputaan\, Kivijärven\, Kannonkosken ja Kyyjärven kunnat\, Viitasaaren kaupunki sekä Kehittämisyhtiö Witas Oy. Sydänsuomen luontomatkailun kasvuohjelma on Euroopan unionin osarahoittama\, rahoituksen myöntäjä on Keski-Suomen liitto.
URL:https://witas.fi/kalenteri/sydansuomen-luontomatkailun-kasvuohjelman-aloitustilaisuus-23112023
LOCATION:Lennätin\, Keskitie 4\, Viitasaari
CATEGORIES:2023,Sydänsuomessa,Viitasaari
ATTACH;FMTTYPE=image/jpeg:https://witas.fi/wp-content/uploads/2023/11/Luontomatkailun-kasvuohjelman-starttitilaisuus-VTS.jpg
END:VEVENT
END:VCALENDAR