BEGIN:VCALENDAR
VERSION:2.0
PRODID:-//Witas Oy - ECPv6.15.20//NONSGML v1.0//EN
CALSCALE:GREGORIAN
METHOD:PUBLISH
X-WR-CALNAME:Witas Oy
X-ORIGINAL-URL:https://witas.fi
X-WR-CALDESC:Tapahtumat Witas Oy
REFRESH-INTERVAL;VALUE=DURATION:PT1H
X-Robots-Tag:noindex
X-PUBLISHED-TTL:PT1H
BEGIN:VTIMEZONE
TZID:Europe/Helsinki
BEGIN:DAYLIGHT
TZOFFSETFROM:+0200
TZOFFSETTO:+0300
TZNAME:EEST
DTSTART:20230326T010000
END:DAYLIGHT
BEGIN:STANDARD
TZOFFSETFROM:+0300
TZOFFSETTO:+0200
TZNAME:EET
DTSTART:20231029T010000
END:STANDARD
BEGIN:DAYLIGHT
TZOFFSETFROM:+0200
TZOFFSETTO:+0300
TZNAME:EEST
DTSTART:20240331T010000
END:DAYLIGHT
BEGIN:STANDARD
TZOFFSETFROM:+0300
TZOFFSETTO:+0200
TZNAME:EET
DTSTART:20241027T010000
END:STANDARD
BEGIN:DAYLIGHT
TZOFFSETFROM:+0200
TZOFFSETTO:+0300
TZNAME:EEST
DTSTART:20250330T010000
END:DAYLIGHT
BEGIN:STANDARD
TZOFFSETFROM:+0300
TZOFFSETTO:+0200
TZNAME:EET
DTSTART:20251026T010000
END:STANDARD
END:VTIMEZONE
BEGIN:VEVENT
DTSTART;TZID=Europe/Helsinki:20240516T163000
DTEND;TZID=Europe/Helsinki:20240516T190000
DTSTAMP:20260421T125201
CREATED:20240423T101056Z
LAST-MODIFIED:20240423T123150Z
UID:14728-1715877000-1715886000@witas.fi
SUMMARY:Verkkosivuilta yrityksille ja yhdistyksille Digikeskuksessa
DESCRIPTION:  \nTuntuuko verkkosivukuviot hankalilta tai ovatko sivut päivityksen tarpeessa\, muttet tiedä\, että miten niitä päivittäisi? \nTervetuloa Digikeskukselle torstaina 16.5.2024 klo 16.30–19 kuulemaan ja oppimaan aiheesta lisää ja kohtaamaan tekijöitä\, jotka voivat auttaa sinua verkkosivujen kuntoon laittamisessa. Aiheen äärelle meidät saattelee Aargh! Digitalin Johanna Berlin ja alustuksen jälkeen ryhdytään tositoimiin – otetaan verkkosivuhaasteesta tiukka ote ja lähdetään luomaan osaajien avulla uusia sivuja käänneltäväksi! \nIlmoittaudu mukaan verkkosivuiltaan \nLisätiedot:\nMirva Jäntti\, 040 707 9618\, mirva.jantti@witas.fi\nDigikeskus\, Keskitie 4\, Viitasaari \n  \nTapahtuman järjestää Ketterien kokeilujen elinvoimahautomo\, jonka toteuttajana toimii Kehittämisyhtiö Witas Oy ja kumppaneina Viitasaaren kaupunki\, POKE ja Keski-Suomen hyvinvointialue. Rahoittajana toimii Keski-Suomen ELY-keskus maaseuturahastosta.
URL:https://witas.fi/kalenteri/verkkosivuilta-yrityksille-ja-yhdistyksille-digikeskuksessa-16052024
LOCATION:Digikeskus\, Keskitie 4\, Viitasaari\, 44500\, Suomi
CATEGORIES:2024,Viitasaari,Witas Oy
END:VEVENT
BEGIN:VEVENT
DTSTART;TZID=Europe/Helsinki:20240524T143000
DTEND;TZID=Europe/Helsinki:20240524T160000
DTSTAMP:20260421T125201
CREATED:20240520T115016Z
LAST-MODIFIED:20240520T115043Z
UID:14918-1716561000-1716566400@witas.fi
SUMMARY:Wiilo Hackathon Campin palkitsemistilaisuus Digikeskuksessa
DESCRIPTION:Wiilo ja Digikeskus ovat valokeilassa! \nEdustatko yritystä Viitasaarella? Oletko kiinnostunut siitä\, miten nuoret ajattelevat yrityksissä? Tule mukaan perjantai-iltapäivänä 24.5.2024 Viitasaaren Digikeskukseen (Keskitie 4)\, jossa palkitsemme Wiilo Hackathon Campissa JAMKin ja JYU:n opiskelijoiden parhaita ratkaisuja. \nKahvitarjoilu alkaa klo 14.30! \nKahden päivän ajan opiskelijat pohtivat\, miten Wiilo-logistiikkakeskus voi muuttaa sähköisen kaupankäynnin maisemaa Suomessa. Heiltä on pyydetty ehdotuksia siitä\, miten Wiilo voi haastaa tulevaisuuden logistiikka-alustana. Lisäksi opiskelijat idoivat energiatehokkuuden kehittämistä paikallisissa yrityksissä. \nOlemme innoissamme kutsuessamme sinut mukaan palkitsemaan nämä lahjakkaat opiskelijat perjantaina. Tämä on myös loistava tilaisuus tutustua heihin ja löytää potentiaalisia työntekijöitä yrityksellesi. Opiskelijoille tämä on oiva mahdollisuus tutustua Viitasaaren yrityksiin. \nNähdään Digikeskuksessa! \n———————————————————– \nWiilo and Digikeskus are on the spotlight! \nAre you a local company in Viitasaari? Are you curious about how young minds think in businesses?\nCome and join us in Digikeskus this coming 24th of May 2024 at Digikeskus\, Viitasaari as we award the best solutions provided by JAMK and JYU students in the Wiilo Hackathon Camp. \nFor two days\, their minds will be put into a test to see how Wiilo Company can change the e-commerce landscape in Finland. They will be asked to do proposals on how they can challenge the future of Wiilo as a logistics platform. Furthermore\, questions on how energy efficiency be practiced in local companies.\nWe are excited to invite you join us as we award these talented students on Friday. Also\, it would be a great opportunity to get to know them and find potential talents to work for your companies. It will also be a chance for them to get introduced to local companies in Viitasaari. \nCoffee will be served at 14:30! See you there!
URL:https://witas.fi/kalenteri/wiilo-hackathon-campin-palkitsemistilaisuus-digikeskuksessa
LOCATION:Digikeskus\, Keskitie 4\, Viitasaari\, 44500\, Suomi
CATEGORIES:2024,Viitasaari,Witas Oy
END:VEVENT
BEGIN:VEVENT
DTSTART;TZID=Europe/Helsinki:20240531T073000
DTEND;TZID=Europe/Helsinki:20240531T090000
DTSTAMP:20260421T125201
CREATED:20231129T143710Z
LAST-MODIFIED:20240422T102654Z
UID:11898-1717140600-1717146000@witas.fi
SUMMARY:Aamukahvit yrittäjille Digikeskuksessa
DESCRIPTION:Tervetuloa toukokuun aamukahville perjantaina 31.5.2024 klo 7.30–9 Digikeskukseen (Keskitie 4). \nAamukahvit ovat avoin ja vapaamuotoinen tilaisuus kaikille viitasaarelaisille yrittäjille sekä yrittäjyyttä suunnitteleville ja yrittäjähenkisille\, tervetuloa mukaan! \nSave the date! Aamukahvit jatkuvat jälleen elokuusta lähtien tuttuun tapaan kuukauden viimeisenä perjantaina. Seuraavien aamukahvien ajankohta on 30.8.2024.
URL:https://witas.fi/kalenteri/aamukahvit-yrittajille-31052024
LOCATION:Digikeskus\, Keskitie 4\, Viitasaari\, 44500\, Suomi
CATEGORIES:2024,Viitasaari,Witas Oy
END:VEVENT
END:VCALENDAR