BEGIN:VCALENDAR
VERSION:2.0
PRODID:-//Witas Oy - ECPv6.15.20//NONSGML v1.0//EN
CALSCALE:GREGORIAN
METHOD:PUBLISH
X-ORIGINAL-URL:https://witas.fi
X-WR-CALDESC:Tapahtumat Witas Oy
REFRESH-INTERVAL;VALUE=DURATION:PT1H
X-Robots-Tag:noindex
X-PUBLISHED-TTL:PT1H
BEGIN:VTIMEZONE
TZID:Europe/Helsinki
BEGIN:DAYLIGHT
TZOFFSETFROM:+0200
TZOFFSETTO:+0300
TZNAME:EEST
DTSTART:20230326T010000
END:DAYLIGHT
BEGIN:STANDARD
TZOFFSETFROM:+0300
TZOFFSETTO:+0200
TZNAME:EET
DTSTART:20231029T010000
END:STANDARD
BEGIN:DAYLIGHT
TZOFFSETFROM:+0200
TZOFFSETTO:+0300
TZNAME:EEST
DTSTART:20240331T010000
END:DAYLIGHT
BEGIN:STANDARD
TZOFFSETFROM:+0300
TZOFFSETTO:+0200
TZNAME:EET
DTSTART:20241027T010000
END:STANDARD
BEGIN:DAYLIGHT
TZOFFSETFROM:+0200
TZOFFSETTO:+0300
TZNAME:EEST
DTSTART:20250330T010000
END:DAYLIGHT
BEGIN:STANDARD
TZOFFSETFROM:+0300
TZOFFSETTO:+0200
TZNAME:EET
DTSTART:20251026T010000
END:STANDARD
END:VTIMEZONE
BEGIN:VEVENT
DTSTART;TZID=Europe/Helsinki:20240202T083000
DTEND;TZID=Europe/Helsinki:20240202T104500
DTSTAMP:20260423T175048
CREATED:20240129T124345Z
LAST-MODIFIED:20240411T084135Z
UID:13308-1706862600-1706870700@witas.fi
SUMMARY:Webinaari: Logistiikka-alueiden konseptit ja logistiikkakeskus Wiilon kehittämistyöpaja
DESCRIPTION:Viitasaarelle rakennettavaa Wiilo-logistiikkakeskusta käsitellään verkkovälitteisessä työpajassa perjantaina 2.2.2024. Valtakunnallisesti asiasta kiinnostuneiden lisäksi kehittämistyöpajaa suositellaan erityisesti Viitasaaren ja lähikuntien yrittäjille sekä viitasaarelaisille päättäjille. \nTyöpaja järjestetään osana LIMOWA Logistiikkaverkoston webinaaria\, joka alkaa perjantaina klo 8.30. Webinaarissa käsitellään laajemmin ajankohtaista tietoa logistiikkakeskusalueiden ja kuljetusjärjestelmän kehittämisestä. Itse webinaarissa alustetaan sen jälkeen alkavaa Wiilo-kehittämistyöpajaa. \nWiilo-logistiikkakeskus on Viitasaarelle rakennettava kokonaisuus\, joka toteutetaan Viitasaaren kaupungin ja sen tytäryhtiö Wiitaseudun Yrityspalvelun johdolla. Wiilosta kerrotaan tarkemmin sen omilla verkkosivuilla wiilo.fi. Logistiikkakeskuksen ensimmäinen vaiheen rakentamistyöt tehdään EU:n osarahoittamalla JTF-hankkeella\, jonka rahoituksen on myöntänyt Keski-Suomen liitto. \nLIMOWA ry:n järjestämään webinaariin ja työpajaan ilmoittaudutaan erillisellä lomakkeella 30.1.2024 mennessä. Lomakkeen yhteydessä on myös tilaisuuden ohjelma eri puheenvuoroineen. Teams-järjestelmässä järjestettävä webinaari on kaikille avoin ja mukaan mahtuu ensimmäiset 250 ilmoittautunutta.
URL:https://witas.fi/kalenteri/webinaari-logistiikka-alueiden-konseptit-ja-logistiikkakeskus-wiilon-kehittamistyopaja
LOCATION:Microsoft Teams
CATEGORIES:2024,Viitasaari
ATTACH;FMTTYPE=image/jpeg:https://witas.fi/wp-content/uploads/2024/01/Wiilo.jpg
END:VEVENT
BEGIN:VEVENT
DTSTART;TZID=Europe/Helsinki:20240223T073000
DTEND;TZID=Europe/Helsinki:20240223T090000
DTSTAMP:20260423T175048
CREATED:20231129T143431Z
LAST-MODIFIED:20240411T084301Z
UID:11892-1708673400-1708678800@witas.fi
SUMMARY:Yrittäjien aamukahvit
DESCRIPTION:Tervetuloa helmikuun aamukahveille perjantaina 23.2.2024 klo 7.30–9 Digikeskukseen (Keskitie 4). Tällä kerralla aamukahveilla tarjolla tietoa kaupungin ja Wiitaseudun Yrityspalvelun tulevista hankinnoista\, mm. Wiilo-logistiikkakeskus (vs. palvelualuejohtaja Oskari Talvitie ja WYP:n tj Juho Tenhunen). \nHelmikuun aamukahveilla omasta toiminnastaan kertoo kaksi tuoretta yrittäjää\, aamukahvien ja vapaan keskustelun lomassa kuulemme myös Viitasaaren kaupungin\, Kehittämisyhtiö Witaksen\, Wiitaseudun Yrityspalvelun sekä Viitasaaren Yrittäjien alkuvuoden ajankohtaiset asiat. \nAamukahvit ovat avoin ja vapaamuotoinen tilaisuus kaikille viitasaarelaisille yrittäjille\, yrittäjyyttä suunnitteleville ja yrittäjähenkisille\, tervetuloa mukaan! \nSave the date! Aamukahvit järjestetään kerran kuukaudessa perjantaiaamuisin. Seuraavien aamukahvien ajankohdat 22.3.\, 26.4. sekä 31.5.
URL:https://witas.fi/kalenteri/yrittajien-aamukahvit-23022024
LOCATION:Digikeskus\, Keskitie 4\, Viitasaari\, 44500\, Suomi
CATEGORIES:2024,Viitasaari,Witas Oy
END:VEVENT
END:VCALENDAR