BEGIN:VCALENDAR
VERSION:2.0
PRODID:-//Witas Oy - ECPv6.15.20//NONSGML v1.0//EN
CALSCALE:GREGORIAN
METHOD:PUBLISH
X-WR-CALNAME:Witas Oy
X-ORIGINAL-URL:https://witas.fi
X-WR-CALDESC:Tapahtumat Witas Oy
REFRESH-INTERVAL;VALUE=DURATION:PT1H
X-Robots-Tag:noindex
X-PUBLISHED-TTL:PT1H
BEGIN:VTIMEZONE
TZID:Europe/Helsinki
BEGIN:DAYLIGHT
TZOFFSETFROM:+0200
TZOFFSETTO:+0300
TZNAME:EEST
DTSTART:20250330T010000
END:DAYLIGHT
BEGIN:STANDARD
TZOFFSETFROM:+0300
TZOFFSETTO:+0200
TZNAME:EET
DTSTART:20251026T010000
END:STANDARD
BEGIN:DAYLIGHT
TZOFFSETFROM:+0200
TZOFFSETTO:+0300
TZNAME:EEST
DTSTART:20260329T010000
END:DAYLIGHT
BEGIN:STANDARD
TZOFFSETFROM:+0300
TZOFFSETTO:+0200
TZNAME:EET
DTSTART:20261025T010000
END:STANDARD
BEGIN:DAYLIGHT
TZOFFSETFROM:+0200
TZOFFSETTO:+0300
TZNAME:EEST
DTSTART:20270328T010000
END:DAYLIGHT
BEGIN:STANDARD
TZOFFSETFROM:+0300
TZOFFSETTO:+0200
TZNAME:EET
DTSTART:20271031T010000
END:STANDARD
END:VTIMEZONE
BEGIN:VEVENT
DTSTART;TZID=Europe/Helsinki:20260421T170000
DTEND;TZID=Europe/Helsinki:20260421T190000
DTSTAMP:20260422T115823
CREATED:20260326T183217Z
LAST-MODIFIED:20260417T105024Z
UID:19473-1776790800-1776798000@witas.fi
SUMMARY:Kalailta Digikeskuksessa
DESCRIPTION:Tervetuloa mukaan kaikille kalastusalan toimijoille ja kalatoimialasta kiinnostuneille suunnattuun Kalailtaan tiistaina 21.4.2026 klo 17–19 Digikeskukseen Viitasaarelle (Keskitie 4). \nTilaisuus on suunnattu Viitasaarella\, Sydänsuomessa-alueella ja lähialueilla toimiville ammattikalastajille\, kalastusyrittäjille ja -yrittäjyyttä suunnitteleville\, kalanjalostajille sekä kaikille kalastustoimialasta kiinnostuneille tahoille. \nIlmoittaudu mukaan kahvitarjoilua varten viimeistään su 19.4.2026 sähköisellä ilmoittautumislomakkeella (forms). \n  \nPs. Vastaathan myös kalastustoimialan kyselyyn\, jonka tavoitteena on tunnistaa ne käytännön toimet\, joilla Viitasaaren ja koko Sydänsuomessa-alueen sekä muiden lähialueiden kalastajien ja kalanjalostajien välistä yhteistyötä voitaisiin parantaa. Vastaa kyselyyn ti 14.4.2026 mennessä: Vastaa kalastusalan kyselyyn.
URL:https://witas.fi/kalenteri/kalailta-21042026
LOCATION:Digikeskus\, Keskitie 4\, Viitasaari\, 44500\, Suomi
CATEGORIES:2026,Viitasaari,Witas Oy
END:VEVENT
END:VCALENDAR